BEGIN:VCALENDAR
PRODID:-//hacksw/handcal//NONSGML v1.0//EN
VERSION:2.0
METHOD:PUBLISH
BEGIN:VEVENT
DTSTART:20161003T223000Z
DTEND:20161003T233000Z
LOCATION:Phoenix Country Club
UID:1393420161003T223000Z...............CAEPC Board Meeting
DTSTAMP:20260420T043209Z
DESCRIPTION:\nFull Board Meeting:  3:30 - 4:30 p.m. \n \nExecutive Board Meeting:  4:30 - 5:00 p.m.\n \nAssociate Members have the right to attend this and any regular board meeting.\n
SUMMARY:...............CAEPC Board Meeting - Central Arizona Estate Planning Council 
PRIORITY:3
BEGIN:VALARM
TRIGGER:PT18H
ACTION:DISPLAY
DESCRIPTION:Reminder
END:VALARM
END:VEVENT
END:VCALENDAR