BEGIN:VCALENDAR
PRODID:-//hacksw/handcal//NONSGML v1.0//EN
VERSION:2.0
METHOD:PUBLISH
BEGIN:VEVENT
DTSTART:20160921T150000Z
DTEND:20160921T163000Z
LOCATION:The Conference Center at The Esplanade  2501 E Camelback Rd Suite 50  Phoenix, AZ 85016
UID:1369420160921T150000ZEPG Event - Estate Planning in Indian Country
DTSTAMP:20260420T042747Z
DESCRIPTION:\nWednesday September 21st 2016 \n \n“Estate Planning in Indian Country“\n \nA discussion on matters related to Native American planning, the history behind tribal law, its technical nature and highly specialized probate process\n \nBy Helen Burtis of Rosette, LLP\n \nFaculty Associate with the Indian Legal Program at the Sandra Day O’Conner College of Law at ASU\n \n \n \nVenue:\n \n8:00am to 9:30am\n \nThe Conference Center at The Esplanade\n \n2501 E Camelback Rd Suite 50\n \nPhoenix, AZ 85016\n \nBeverages and Light Fare Will Be Available\n
SUMMARY:EPG Event - Estate Planning in Indian Country - Central Arizona Estate Planning Council 
PRIORITY:3
BEGIN:VALARM
TRIGGER:PT18H
ACTION:DISPLAY
DESCRIPTION:Reminder
END:VALARM
END:VEVENT
END:VCALENDAR