BEGIN:VCALENDAR
PRODID:-//hacksw/handcal//NONSGML v1.0//EN
VERSION:2.0
METHOD:PUBLISH
BEGIN:VEVENT
DTSTART:20160816T181500Z
DTEND:20160816T200000Z
LOCATION:Phoenix Country Club
UID:1351320160816T181500ZPlanning for Family and Planning for Charity, and Perceived Conflicts
DTSTAMP:20260420T043109Z
DESCRIPTION:\nPlanned Giving Round Table of Arizona \n \nPresents\n \nPlanning for Family and Planning for Charity, and Perceived Conflicts\n \nAugust 16, 2016\n Phoenix Country Club\n 11:15am:  Registration \n 11:30am:  Lunch & Networking\n 11:45am:  Announcements\n 12:00pm:  Presentation\n 1:00pm:  Adjourn\n \nThis session will give an overview of the planning and strategies needed to ensure that families can best avoid some pitfalls and conflicts of interest related to their charitable giving now and in the future. Follow the registation link below to read the complete program description.\n \nJoin us for the monthly meetings as a guest!\n First time guest fee:  $25.00\n Repeat guest fee:  $45.00\n \nTo Register for this meeting please visit \n \nhttp://pgrtaz.org/event-2277357\n \n \n \n \n
SUMMARY:Planning for Family and Planning for Charity, and Perceived Conflicts - Central Arizona Estate Planning Council 
PRIORITY:3
BEGIN:VALARM
TRIGGER:PT18H
ACTION:DISPLAY
DESCRIPTION:Reminder
END:VALARM
END:VEVENT
END:VCALENDAR