BEGIN:VCALENDAR
PRODID:-//hacksw/handcal//NONSGML v1.0//EN
VERSION:2.0
METHOD:PUBLISH
BEGIN:VEVENT
DTSTART:20170502T000000Z
DTEND:20170502T023000Z
LOCATION:Phoenix Country Club
UID:1314420170502T000000ZPlanning for Social Security Benefits and Medicare Coverage for the Baby Boom Generation and Beyond
DTSTAMP:20260420T043047Z
DESCRIPTION:\nWilliam S. Boyd Professor of Law (UNLV) Francine Lipman will highlight issues your clients should consider as they age into qualifying for Medicare and Social Security Retirement programs, including timing of retirement, spousal and survivor benefits. She will also cover recent limitations on Social Security benefit options that are now law under the Bipartisan Budget Act of 2015.\n \n[Click here to learn more about our speaker](https://law.unlv.edu/faculty/francine-lipman).\n \n[MEETING MATERIALS](/assets/Councils/CentralArizona-AZ/userContent/doc/Social%20Security%20Timing%20MattersCAEPC.docx)\n \n \n \n \n \nMenu:\n \nGarden Salad\n \nTomatoes, Shredded Carrots, Cucumbers And Croutons\n \nBalsamic & Ranch Dressings\n \nRolls & Butter\n \nDINNER:\n \nRoasted Chicken\n \nRagout of Sweet Garlic Woodland Mushrooms  Applewood Smoked Bacon Olives & Rosemary\n \nWhipped Potatoes\n \nVegetable\n \nDESSERT: Key Lime Pie  \n
SUMMARY:Planning for Social Security Benefits and Medicare Coverage for the Baby Boom Generation and Beyond - Central Arizona Estate Planning Council 
PRIORITY:3
BEGIN:VALARM
TRIGGER:PT18H
ACTION:DISPLAY
DESCRIPTION:Reminder
END:VALARM
END:VEVENT
END:VCALENDAR