BEGIN:VCALENDAR
PRODID:-//hacksw/handcal//NONSGML v1.0//EN
VERSION:2.0
METHOD:PUBLISH
BEGIN:VEVENT
DTSTART:20170307T000000Z
DTEND:20170307T023000Z
LOCATION:Phoenix Country Club
UID:1314320170307T000000ZGood Intentions Can Often Lead to Unintended Consequences: Private Foundations and Other Charitable Endeavor
DTSTAMP:20260420T042843Z
DESCRIPTION:\n\n \nAn interactive presentation to help your private foundation identify and avoid “self-dealing” incidents. For private foundations, trouble often falls under the category of “self-dealing,” which can arise in the context of most business and financial transactions between a foundation and its disqualified persons or “insiders.” In this scenario-based presentation, tax attorney and private foundation expert Jeffrey Haskell, J.D., LL.M., will review the many ways that insiders unknowingly self-deal, and the stiff penalties and corrective action requirements associated with such activities. By being challenged to identify ambiguous instances of self-dealing, participants will walk away with a grasp of the subject matter and an enhanced appreciation for the subtleties of private foundation oversight.\n \n \n \nAs Chief Legal Officer at Foundation Source, Jeffrey Haskell is responsible for providing guidance on legal and tax issues to the foundations that the company serves.\n \n\n Mr. Haskell works with and provides guidance to a team of attorneys, accountants, and support professionals who provide tax reporting services to clients of the company as well as support to foundations and their advisors on a range of issues including Program- and Mission-Related Investments, grants to individuals, expenditure responsibility grants, equivalency determinations, scholarship and award programs, set-aside projects, return preparation, and compliance with self-dealing, minimum required distributions, excess business holdings, jeopardizing investments, and taxable expenditure rules.\n \n\n Prior to joining Foundation Source, Mr. Haskell was an associate at the law firms of Kronish Leib Weiner & Hellman LLP and Olshan Grundman Frome Rosenzweig & Wolosky, in the Tax and Trusts and Estates departments. Prior to joining Olshan Grundman, Mr. Haskell worked at Coopers & Lybrand in the Business Tax Planning Group.\n Mr. Haskell is involved in pro bono work for public charities and has served as an adjunct lecturer at Baruch College of Accountancy, where he taught corporate tax law. Articles by Mr. Haskell have appeared in Trusts & Estates and Taxation of Exempts magazines, and in Cardozo Law Review. Additionally, he is a frequent speaker on the rules and regulations pertaining to private foundations.\n \n\n Mr. Haskell is a graduate of Yeshiva University and the Benjamin N. Cardozo School of Law, where he was a member of the Cardozo Law Review. He received a Masters of Law in Taxation from New York University School of Law, where he was a member of the NYU Tax Law Review.\n \nCAEPC Past Presidents are invited to this event for free.\n \n \n \n \n \nThank you to our Sponsor:\n \n \n \n                                      \n \nWine Sponsored by:\n \n                                            \n \n \n \nDinner Menu:\n \nMediterranean Bruschetta  Two Gulf Cocktail Shrimp\n \nChipotle Cocktail Sauce\n \nRemoulade Ribbons\n \nENTREE:\n \n4 Oz Filet, Sliced And Fanned with Red Wine Demi\n \nMurriel Potato\n \nVegetable\n \nParker House Rolls & Butter\n \nDESSERT:\n \nAngel Food Cake With Fresh Berries\n
SUMMARY:Good Intentions Can Often Lead to Unintended Consequences: Private Foundations and Other Charitable Endeavor - Central Arizona Estate Planning Council 
PRIORITY:3
BEGIN:VALARM
TRIGGER:PT18H
ACTION:DISPLAY
DESCRIPTION:Reminder
END:VALARM
END:VEVENT
END:VCALENDAR