BEGIN:VCALENDAR
PRODID:-//hacksw/handcal//NONSGML v1.0//EN
VERSION:2.0
METHOD:PUBLISH
BEGIN:VEVENT
DTSTART:20170110T010000Z
DTEND:20170110T040000Z
LOCATION:The Esplanade Conference Center
UID:1314120170110T010000Z2017 College Football National Championship Viewing Party
DTSTAMP:20260420T042746Z
DESCRIPTION:\n \n \nWho Will Be Champion?\n \n    \n \nCome Watch the Game with us on January 9, 2017 \n \nThere will be food, drinks, fun, football, and much more!\n \n6:00-9:00 PM\n \nThe Esplanade Conference Center\n \n2501 E. Camelback Road, Suite 50 Phoenix, AZ 85016\n(The Conference Center is located right off  Camelback, turn south on 26th Street – there is a light at that intersection.  Make an immediate right between the two office buildings.  The Center is Straight ahead)\n \nFree to members and one guest but please RSVP below!\n \n \n \nThank You To Our Sponsors!\n \n \n \n[](http://www.rcalaw.com/)                 \n \n \n \n \n \n[](http://www.frgalaw.com/)                               [](http://www.suncornerstone.com/)\n \n \n \n[](http://www.massmutual.com/)          \n \n \n \n[](https://myfw.com/)\n
SUMMARY:2017 College Football National Championship Viewing Party - Central Arizona Estate Planning Council 
PRIORITY:3
BEGIN:VALARM
TRIGGER:PT18H
ACTION:DISPLAY
DESCRIPTION:Reminder
END:VALARM
END:VEVENT
END:VCALENDAR