BEGIN:VCALENDAR
PRODID:-//hacksw/handcal//NONSGML v1.0//EN
VERSION:2.0
METHOD:PUBLISH
BEGIN:VEVENT
DTSTART:20160520T010000Z
DTEND:20160520T020000Z
LOCATION:KJZZ KBACH Studios - Conference Room
UID:1311120160520T010000ZPublic Outreach: Financial Planning for Special Needs Clients
DTSTAMP:20260420T042910Z
DESCRIPTION:\n\n \nLive Video Webcast!\n \nIn collaboration with KJZZ and K-BACH public radio, join a panel of experts from the Central Arizona Estate Planning Council on the concepts that apply to all investors.\n\nHear from the following professionals to gain the full picture on financial planning for special needs clients: Roger Coventry, Childers & Berg; Mike Dyer and Debbie Schultz.\n \nDate: Thursday, May 19, 2016 \nTime: 6:00 p.m. - 7:00 p.m. \nPanelists: CAEPC Professionals TBD\n\nWe will also have a team of associate members who will be ready to answer your questions.\n \nPlease register by clicking here:  https://attendee.gotowebinar.com/register/8095211908740278275\n
SUMMARY:Public Outreach: Financial Planning for Special Needs Clients - Central Arizona Estate Planning Council 
PRIORITY:3
BEGIN:VALARM
TRIGGER:PT18H
ACTION:DISPLAY
DESCRIPTION:Reminder
END:VALARM
END:VEVENT
END:VCALENDAR