BEGIN:VCALENDAR
PRODID:-//hacksw/handcal//NONSGML v1.0//EN
VERSION:2.0
METHOD:PUBLISH
BEGIN:VEVENT
DTSTART:20160317T010000Z
DTEND:20160317T020000Z
LOCATION:KJZZ KBACH Studios
UID:1296820160317T010000ZPublic Outreach: A Holistic Approach to Financial Planning with Investments, Taxes and Insurance
DTSTAMP:20260420T042442Z
DESCRIPTION:\nLive Video Webcast!\n \nIn collaboration with KJZZ and K-BACH public radio, join a panel of experts from the Central Arizona Estate Planning Council on the concepts that apply to all investors.\n\nHear from multiple professionals to gain the full picture on holistic financial planning and ask questions about finances, taxes and insurance. \n\nDate: Wednesday, March 16, 2016 \nTime: 6:00 p.m. - 7:00 p.m. \nPanelists: Steve Taddie, Barry McBride, and Greg Cygan \n\nWe will also have a team of associate members who will be ready to answer your questions.\n \n[Click here for the Youtube link to watch the webcast.](https://www.youtube.com/watch?v=hCUw2sm48_0)\n \n \n
SUMMARY:Public Outreach: A Holistic Approach to Financial Planning with Investments, Taxes and Insurance - Central Arizona Estate Planning Council 
PRIORITY:3
BEGIN:VALARM
TRIGGER:PT18H
ACTION:DISPLAY
DESCRIPTION:Reminder
END:VALARM
END:VEVENT
END:VCALENDAR