BEGIN:VCALENDAR
PRODID:-//hacksw/handcal//NONSGML v1.0//EN
VERSION:2.0
METHOD:PUBLISH
BEGIN:VEVENT
DTSTART:20160220T010000Z
DTEND:20160220T050000Z
LOCATION:Hazelwoods First Place Bar and Grill
UID:1286020160220T010000ZTrivia Night
DTSTAMP:20260420T042826Z
DESCRIPTION:\nJoin the CAEPC Emerging Professionals Group\n \nat [Hazelwoods First Place Bar and Grill](http://www.hazelwoodsfirstplace.com/)\n \nfor a fun evening of appetizers, mingling and team trivia.\n \n \n \nFriday, February 19, 2016\n \n3626 East Indian School Road Phoenix, Arizona 85018\n \nAppetizers begin at 6:00 p.m. \n \nTeam Trivia begins at 8:00 p.m.\n \n$10 per person\n \nBring your spouse or a friend\n \nCome anytime, we’ll be there through trivia!\n \n \n \n \n
SUMMARY:Trivia Night - Central Arizona Estate Planning Council 
PRIORITY:3
BEGIN:VALARM
TRIGGER:PT18H
ACTION:DISPLAY
DESCRIPTION:Reminder
END:VALARM
END:VEVENT
END:VCALENDAR