BEGIN:VCALENDAR
PRODID:-//hacksw/handcal//NONSGML v1.0//EN
VERSION:2.0
METHOD:PUBLISH
BEGIN:VEVENT
DTSTART:20160104T223000Z
DTEND:20160104T233000Z
LOCATION:Phoenix Country Club
UID:1278020160104T223000Z....................CAEPC Board Meeting
DTSTAMP:20260420T042931Z
DESCRIPTION:\nFull Board Meeting:  3:30 - 4:30 p.m.\n \nExecutive Board Meeting:  4:30 - 5:00 p.m.\n \nAssociate Members have the right to attend this and any regular board meeting.\n \n[Link to Board Meeting Materials](/assets/Councils/CentralArizona-AZ/userContent/files/CAEPC%20Board%20Meeting%20Materials%2001_04_16.pdf).\n \n[Link to 2016 Spring Event Draft Budget](/assets/Councils/CentralArizona-AZ/userContent/files/CAEPC%20April%20Spring%20Event%20Budget%202016.pdf).\n \n[Link to 2016 Spring Event Quote from Top Golf](/assets/Councils/CentralArizona-AZ/userContent/files/Top%20Golf%20Quote%20-%204%2029%2016.pdf).\n
SUMMARY:....................CAEPC Board Meeting - Central Arizona Estate Planning Council 
PRIORITY:3
BEGIN:VALARM
TRIGGER:PT18H
ACTION:DISPLAY
DESCRIPTION:Reminder
END:VALARM
END:VEVENT
END:VCALENDAR