BEGIN:VCALENDAR
PRODID:-//hacksw/handcal//NONSGML v1.0//EN
VERSION:2.0
METHOD:PUBLISH
BEGIN:VEVENT
DTSTART:20151204T010000Z
DTEND:20151204T020000Z
LOCATION:KJZZ-KBACH Studios
UID:1265120151204T010000ZPublic Outreach - Planned Giving
DTSTAMP:20260420T043108Z
DESCRIPTION:\nLive Video Webcast!\n \nJoin a panel of four experts from the Central Arizona Estate Planning Council who will explore important questions about planned giving. We will also have a team of associate members who will be ready to answer your questions.\n \n\n \n[Click here to view the recording!](https://attendee.gotowebinar.com/recording/viewRecording/1040303297316959233/4200829680459368194/suzanne@sossolutions.org)\n \n \n \nWhat is charitable giving? \nIRAs and how to make them work \nInvesting with a private foundation or donor advised fund \nHow to chose an investment advisor \nTax benefits of charitable giving, and mor\n \nQuestion Period: 6:00 p.m. - 8:00 p.m. - Phone: 480-774-8400\n
SUMMARY:Public Outreach - Planned Giving - Central Arizona Estate Planning Council 
PRIORITY:3
BEGIN:VALARM
TRIGGER:PT18H
ACTION:DISPLAY
DESCRIPTION:Reminder
END:VALARM
END:VEVENT
END:VCALENDAR