BEGIN:VCALENDAR
PRODID:-//hacksw/handcal//NONSGML v1.0//EN
VERSION:2.0
METHOD:PUBLISH
BEGIN:VEVENT
DTSTART:20160512T234500Z
DTEND:20160513T023000Z
LOCATION:Nook, 15 E. Monroe St. PHX, AZ 85004
UID:1243020160512T234500ZEmerging Professionals Group Event - Happy Hour
DTSTAMP:20260420T042434Z
DESCRIPTION:\nJoin us for Happy Hour! \n \nCome join the CAEPC Emerging Professionals Group at NOOK KITCHEN’s brand new second downtown Phoenix location for a fun evening of appetizers, wine, and networking!\n \n \n \n\n \nHilton Garden Inn Phoenix Downtown\n \n15 E. Monroe St. Phoenix, AZ 85004\n \n4:45pm to 7:00pm\n \n                                                   There is No Charge for this event\n \n \n \n \n
SUMMARY:Emerging Professionals Group Event - Happy Hour - Central Arizona Estate Planning Council 
PRIORITY:3
BEGIN:VALARM
TRIGGER:PT18H
ACTION:DISPLAY
DESCRIPTION:Reminder
END:VALARM
END:VEVENT
END:VCALENDAR