BEGIN:VCALENDAR
PRODID:-//hacksw/handcal//NONSGML v1.0//EN
VERSION:2.0
METHOD:PUBLISH
BEGIN:VEVENT
DTSTART:20160324T010000Z
DTEND:20160324T030000Z
LOCATION:MercBar in Phoenix
UID:1242920160324T010000ZEPG - Motivational Business and Life
DTSTAMP:20260420T042844Z
DESCRIPTION:\nSAVE THE DATE\n \nWednesday, March 23, 2016 \n \n6:00 pm to 8:00 pm\n \n \n \nThe Emerging Professionals' Group of CAEPC cordially invites you to an evening of inspiration, professional networking and light fare at:\n \n \n \n[](http://www.mercbar.com/#about)\n \n2525 E Camelback Road, Suite 120\n \nPhoenix, AZ 85016\n \n                   \n \n[Matt Miller, CFP](https://www.linkedin.com/in/mattmillersjs) of SJS Investment Services will be presenting\n \n["Hands of Faith"](http://www.caepc.org/events/event/12429)\n \nIt’s a story of finding new beginnings and discovering incredible gifts in the midst of tragedy.\n \n \n \nThis event is generously sponsored by\n \n[](http://www.fidelitycharitable.org/)\n \n \n \n$10 per person\n
SUMMARY:EPG - Motivational Business and Life - Central Arizona Estate Planning Council 
PRIORITY:3
BEGIN:VALARM
TRIGGER:PT18H
ACTION:DISPLAY
DESCRIPTION:Reminder
END:VALARM
END:VEVENT
END:VCALENDAR