BEGIN:VCALENDAR
PRODID:-//hacksw/handcal//NONSGML v1.0//EN
VERSION:2.0
METHOD:PUBLISH
BEGIN:VEVENT
DTSTART:20151118T230000Z
DTEND:20151119T010000Z
LOCATION:7051 E. 5th Avenue Scottsdale, AZ 85251
UID:1242720151118T230000ZEmerging Professionals Group Event - Education
DTSTAMP:20260420T042607Z
DESCRIPTION:\n\n \nRachel S. Rodgers of OppenheimerFunds will be presenting on\n \n“Helping Clients with Social Security: A Retirement Income Concern”\n \n \n \nThis event is generously sponsored by OppenheimerFunds.\n \n\n \nCE credits available for the following designations:\n \nCFP, CRPC, CRPS, IMCA (CIMA/CIMC/CPWA), PACE and RP)\n \n \n \nClick [RSVP](http://www.caepc.org/events/register/12427) to register for the November 18th Event\n \nLimited Seating Available!\n \n \n \nEmerging Professional Sponsors:\n \n\n \n\n \n\n
SUMMARY:Emerging Professionals Group Event - Education - Central Arizona Estate Planning Council 
PRIORITY:3
BEGIN:VALARM
TRIGGER:PT18H
ACTION:DISPLAY
DESCRIPTION:Reminder
END:VALARM
END:VEVENT
END:VCALENDAR