BEGIN:VCALENDAR
PRODID:-//hacksw/handcal//NONSGML v1.0//EN
VERSION:2.0
METHOD:PUBLISH
BEGIN:VEVENT
DTSTART:20151208T000000Z
DTEND:20151208T040000Z
LOCATION:Scottsdale's Museum of the West 
UID:1226720151208T000000ZHoliday Party at Scottsdale's Museum of the West
DTSTAMP:20260420T042930Z
DESCRIPTION:\n\n \nCowboy Style Holiday Party\n \n\n \nWhere:\n Western Spirit: Scottsdale's Museum of the West\n 3830 N. Marshall Way \n Scottsdale, AZ 85251\n \nParking:\n \nGarage parking is free and located on the northwest corner of the museum.\n \nWhen:\n \nMonday December 7, 2015 5:00pm to 9:00pm\n \n      Cocktails will begin at 5:00pm\n \nCost: $75 Per Guest\n \n         No Cost for Members\n \n \n \nGet out your cowboy boots and western attire (casual).\n \nContest by applause for the Best Dressed Cowboy with prizes.\n \nWestern Music by Rhonda Lester.\n \nBuffet dinner and bar included. \n \nMuseum tours available.\n \nGuests will be charged $75.\n \nIf you have not been here this is a wonderful opportunity to see this very interesting museum which features \n \na unique story of the American West.\n \n \n \n \n \n \n \nThis Event is Generously Sponosored By: \n \n[](http://www.hhcpa.com/)\n
SUMMARY:Holiday Party at Scottsdale's Museum of the West - Central Arizona Estate Planning Council 
PRIORITY:3
BEGIN:VALARM
TRIGGER:PT18H
ACTION:DISPLAY
DESCRIPTION:Reminder
END:VALARM
END:VEVENT
END:VCALENDAR