BEGIN:VCALENDAR
PRODID:-//hacksw/handcal//NONSGML v1.0//EN
VERSION:2.0
METHOD:PUBLISH
BEGIN:VEVENT
DTSTART:20151006T000000Z
DTEND:20151006T023000Z
LOCATION:Phoenix Country Club
UID:1201520151006T000000ZTrust Owned Life Insurance: Fulfilling Fiduciary Duties with Barry Flagg
DTSTAMP:20260420T042709Z
DESCRIPTION:\nProgram Overview: Life Insurance is often integral to planning for its tax preferences, and is increasingly promoted/considered as an investment asset, but has been opaque and difficult to understand because it hasn’t conformed to Prudent Investor principles broadly understood for other investment assets.  This presentation will show how to apply to life insurance the same universal decisionâmaking framework already widely-accepted in the financial services business. \n \nLearning objectives: \n \n·   Use the same decisionâmaking framework widely-used for other assets also for the prudent selection and proper management of life insurance. \n \n·   Differentiate between types of life insurance and learn how R.A.T.E. can help determine when to use which product for what client objectives? \n \n·   Identify life insurance industry practices now considered questionable by financial, insurance and banking industry authorities.  \n \nAbout Our Presenter: Barry D. Flagg is the inventor and founder of Veralytic®, Inc., the only patented online publisher of life insurance pricing and performance research and product suitability ratings. Veralytic is the product of his unique background as both the youngest Certified Financial Planner (CFP®) in history schooled in the investment business, as well as a life insurance practitioner consistently ranked in the top 1% of the industry. His experience in financial product analysis, life insurance sales and marketing, and his success in managing large life insurance portfolios for affluent individuals and growth companies, brings an unparalleled advantage to his presentations.\n \n \n \nThis Event is Generously Sponosored By: \n \n[](http://www.yladvocates.com/)\n \nDinner Menu\n Margarita Salad: mixed spring greens, fanned avocado, jicama, polenta croutons, black beans, carrots, cotija cheese, cherry tomatoes, tequila lime vinaigrette Petite Filet with red wine Demi and Cape Cannapis white fish with dijon cream sauce Rice Pilaf with haricots verts and cubed pancetta Carrot Cake with cream cheese Icing, no nuts
SUMMARY:Trust Owned Life Insurance: Fulfilling Fiduciary Duties with Barry Flagg - Central Arizona Estate Planning Council 
PRIORITY:3
BEGIN:VALARM
TRIGGER:PT18H
ACTION:DISPLAY
DESCRIPTION:Reminder
END:VALARM
END:VEVENT
END:VCALENDAR