BEGIN:VCALENDAR
PRODID:-//hacksw/handcal//NONSGML v1.0//EN
VERSION:2.0
METHOD:PUBLISH
BEGIN:VEVENT
DTSTART:20151023T010000Z
DTEND:20151023T020000Z
LOCATION:KJZZ-KBACH Studios
UID:1166720151023T010000ZPublic Outreach
DTSTAMP:20260420T043023Z
DESCRIPTION:\nLive Video Webcast!\n \nJoin a panel of four experts from the Central Arizona Estate Planning Council who will explore important questions about estate planning. We will also have a team of associate members who will be ready to answer your questions.\n \n\n Please register early to reserve your space. After registering, you will receive a confirmation email containing information about joining the webinar. A recording will be made available after the webinar.\n \n[REGISTER HERE!](https://attendee.gotowebinar.com/register/8954416468932994305)\n
SUMMARY:Public Outreach - Central Arizona Estate Planning Council 
PRIORITY:3
BEGIN:VALARM
TRIGGER:PT18H
ACTION:DISPLAY
DESCRIPTION:Reminder
END:VALARM
END:VEVENT
END:VCALENDAR