BEGIN:VCALENDAR
PRODID:-//hacksw/handcal//NONSGML v1.0//EN
VERSION:2.0
METHOD:PUBLISH
BEGIN:VEVENT
DTSTART:20150421T020000Z
DTEND:20150421T021500Z
LOCATION:Phoenix Country Club
UID:1163720150421T020000Z..........CAEPC Board Meeting
DTSTAMP:20260420T042437Z
DESCRIPTION:
SUMMARY:..........CAEPC Board Meeting - Central Arizona Estate Planning Council 
PRIORITY:3
BEGIN:VALARM
TRIGGER:PT18H
ACTION:DISPLAY
DESCRIPTION:Reminder
END:VALARM
END:VEVENT
END:VCALENDAR