BEGIN:VCALENDAR
PRODID:-//hacksw/handcal//NONSGML v1.0//EN
VERSION:2.0
METHOD:PUBLISH
BEGIN:VEVENT
DTSTART:20150515T003000Z
DTEND:20150515T023000Z
LOCATION:Octane Raceway:  9119 E Indian Bend Road Scottsdale AZ
UID:1097920150515T003000ZCAEPC Emerging Professionals' Group Event 
DTSTAMP:20260420T042826Z
DESCRIPTION:\nSAVE THE DATE\n \nThursday, May 14, 2015, 5:30 p.m. to 7:30 p.m.\n \nCatorce de Mayo at \n \n\n \nRegister [here](http://www.caepc.org/events/event/10979) by Tuesday, May 12th\n \nThe Emerging Professionals' Group of Central Arizona Estate Planning Council cordially invites you to enjoy an end of season celebration event at Octane Raceway.  Enjoy drinks and appetizers while exploring the art of healthy competition on the indoor go-kart racing track.\n \nMingle with fellow emerging planners and learn more about the Central Arizona Estate Planning Council and member benefits first-hand from existing members.\n \n \n \nOCTANE RACEWAY\n \n9119 E. Indian Bend Road\n \nScottsdale, AZ 85250\n \nwww.octaneraceway.com\n \n*Racing is highly encouraged but not provided by EPG.  \n \n*Special discount rate obtained for our group at $15 per race.\n \nCheck out the new look to our site: www.caepc.org\n \nClick on “About Us” to learn about EPG and becoming a CAEPC Associate Member\n \n \n  \n \n
SUMMARY:CAEPC Emerging Professionals' Group Event  - Central Arizona Estate Planning Council 
PRIORITY:3
BEGIN:VALARM
TRIGGER:PT18H
ACTION:DISPLAY
DESCRIPTION:Reminder
END:VALARM
END:VEVENT
END:VCALENDAR