BEGIN:VCALENDAR
PRODID:-//hacksw/handcal//NONSGML v1.0//EN
VERSION:2.0
METHOD:PUBLISH
BEGIN:VEVENT
DTSTART:20150312T143000Z
DTEND:20150312T160000Z
LOCATION:First Floor Conference Room:  2398 E Camelback Road Phoenix AZ  85016
UID:1097820150312T143000ZCAEPC Emerging Professionals' Group Event
DTSTAMP:20260420T043109Z
DESCRIPTION:\n\n \nSAVE THE DATE\n \nThursday, March 12, 2015, 7:30 a.m. to 9:00 a.m.\n \n“The Campfire Effect: Timeless Secrets for Aligning People, Story and Brand”\n \nPresented by\n \nChristopher Smith of kCross Brand Alignment Consultancy\n \n(Light Breakfast Included)\n \nTimely Registraton Ended March 9th.\n \nThe Emerging Professionals' Group of Central Arizona Estate Planning Council cordially invites you to\n \n“The Campfire Effect: Timeless Secrets for Aligning People, Story and Brand” \n \nPresented by Christopher Smith of kCross Brand Alignment Consultancy\n \nDiscover a powerful, unique and timeless process for aligning and transforming your personal brand and story. Learn what the "Campfire Effect” is all about and see how the secrets for success can help you and your team. \n \nThis presentation will deliver actionable strategy that you can immediately incorporate into your daily activities, including:\n Clarity on what your brand stands for and how your team can align to it How to become a great storyteller to impact and influence people and culture Storytelling formulas that will empower your brand story, personal stories & your customer stories Aligning strategy and culture to make it intentional and sustainable \nTickets will be $15 at the door (cash only). \n \nFirst Floor Conference Room\n \n2398 E. Camelback Road\n \nPhoenix, Arizona  85016\n \nLearn more about Christopher Smith and the [kCross](http://www.kcrossbrand.com/ ) Brand Alignment Consultancy\n \nCheck out the new look to our site: www.caepc.org\n \nClick on “About Us” to learn about EPG and becoming a CAEPC Associate Member\n  \n \n
SUMMARY:CAEPC Emerging Professionals' Group Event - Central Arizona Estate Planning Council 
PRIORITY:3
BEGIN:VALARM
TRIGGER:PT18H
ACTION:DISPLAY
DESCRIPTION:Reminder
END:VALARM
END:VEVENT
END:VCALENDAR