BEGIN:VCALENDAR
PRODID:-//hacksw/handcal//NONSGML v1.0//EN
VERSION:2.0
METHOD:PUBLISH
BEGIN:VEVENT
DTSTART:20150212T000000Z
DTEND:20150212T020000Z
LOCATION:The Phoenix Zoo
UID:1097720150212T000000ZCAEPC Emerging Professionals' Group Event Announcement and RSVP Request
DTSTAMP:20260420T042844Z
DESCRIPTION:\n\n \nSAVE THE DATE\n \nWednesday, February 11, 2015, 5:00 p.m. to 7:00 p.m.\n \nAnimal Experience at The Phoenix Zoo\n \nTickets are $10/per family in advance\n \nRegister [here](http://www.caepc.org/events/event/10977) by Monday, February 2nd\n \nThe Emerging Professionals' Group of Central Arizona Estate Planning Council cordially invites you and your family to enjoy a private, behind-the-scenes animal experience at the Phoenix Zoo.  Bring your spouse, significant other and/or children and enjoy drinks and light appetizers while exploring the animal kingdom with other planning professionals and their families. \n \nMeet fellow emerging planners and learn more about the Central Arizona Estate Planning Council and member benefits first-hand from existing members.\n \nLearn more about charitable planned giving and how to get involved with the Phoenix Zoo Planned Giving Advisory Committee.\n \nTickets are $10 per family and should be purchased in advance online [here](http://www.caepc.org/events/event/10977).  Please add the name of each additional family member under your registration to ensure no additional cost and provide an accurate headcount. \n \nTickets will not be available at the door, thus advanced registration is required. \n \nNote that the Phoenix Zoo is not charging an additional zoo admission fee for this event.\n \nPhoenix Zoo\n \n455 North Galvin Parkway\n \nPhoenix, Arizona 85008\n \nLearn more about the [Phoenix Zoo Planned Giving](http://www.gftpln.org/Home.do?orgId=5257). \n \nCheck out the new look to our site: www.caepc.org\n \nClick on “About Us” to learn about EPG and becoming a CAEPC Associate Member\n  \n \n
SUMMARY:CAEPC Emerging Professionals' Group Event Announcement and RSVP Request - Central Arizona Estate Planning Council 
PRIORITY:3
BEGIN:VALARM
TRIGGER:PT18H
ACTION:DISPLAY
DESCRIPTION:Reminder
END:VALARM
END:VEVENT
END:VCALENDAR