BEGIN:VCALENDAR
PRODID:-//hacksw/handcal//NONSGML v1.0//EN
VERSION:2.0
METHOD:PUBLISH
BEGIN:VEVENT
DTSTART:20141002T003000Z
DTEND:20141002T020000Z
LOCATION:Top Golf:  9500 E Indian Bend Road Scottsdale AZ  85256
UID:1097520141002T003000ZEmerging Professionals' Group of Central Arizona Estate Planning Council Event
DTSTAMP:20260420T042909Z
DESCRIPTION:\nSAVE THE DATE\n \nWednesday October 1ST 5:30pm - 7:00pm\n \nThe Emerging Professionals' Group\n \nof Central Arizona Estate Planning Council\n \ncordially invites you to an evening of professional networking and light fare at\n \nTop Golf.\n \nMeet other emerging planners, exchange business ideas and brain storm about best practices.\n \nLearn more about The Central Arizona Estate Planning Council\n \nand associate member benefits first hand from existing associate members.\n \nCheck out the new look to our website and RSVP for the October 1st Event: www.caepc.org\n \nClick on “About Us” to learn about EPG and becoming an associate member of Central Arizona Estate Planning Council\n \n \n \nGolf play is highly encouraged but not provided by the EPG of CAEPC\n \n \n \n\n \n \n \nWe will assemble on the 3rd floor terrace at 5:30 pm sharp at Top Golf Riverwalk\n \n9500 E. Indian Bend Rd. Scottsdale, AZ 85256  *  480-240-2402\n \n \n  \n \n
SUMMARY:Emerging Professionals' Group of Central Arizona Estate Planning Council Event - Central Arizona Estate Planning Council 
PRIORITY:3
BEGIN:VALARM
TRIGGER:PT18H
ACTION:DISPLAY
DESCRIPTION:Reminder
END:VALARM
END:VEVENT
END:VCALENDAR