BEGIN:VCALENDAR
PRODID:-//hacksw/handcal//NONSGML v1.0//EN
VERSION:2.0
METHOD:PUBLISH
BEGIN:VEVENT
DTSTART:20150130T183000Z
DTEND:20150130T233000Z
LOCATION:Wells Fargo Advisers - 8777 N. Gainey Center Drive,Scottsdale AZ
UID:1072620150130T183000Z....................CAEPC Board Retreat & Board Meeting
DTSTAMP:20260420T043344Z
DESCRIPTION:\nBoard Retreat:                                            11:30am - 3:30pm (box lunch)\n \nBoard Meeting:                                             3:30pm - 4:30pm (replaces regularly scheduled meeting on 2/2/15)\n \n \n \n[Link to Board Meeting Materials](http://www.caepc.org/assets/Councils/CentralArizona-AZ/library/20150130%20CAEPC%20Strategic_Regular%20Board%20Mtg%20Agenda%20BinderFinal.pdf)\n
SUMMARY:....................CAEPC Board Retreat & Board Meeting - Central Arizona Estate Planning Council 
PRIORITY:3
BEGIN:VALARM
TRIGGER:PT18H
ACTION:DISPLAY
DESCRIPTION:Reminder
END:VALARM
END:VEVENT
END:VCALENDAR