BEGIN:VCALENDAR
PRODID:-//hacksw/handcal//NONSGML v1.0//EN
VERSION:2.0
METHOD:PUBLISH
BEGIN:VEVENT
DTSTART:20140806T143000Z
DTEND:20140806T160000Z
LOCATION:Phoenix Country Club
UID:1072220140806T143000Z....................CAEPC Joint Board Meeting
DTSTAMP:20260420T042929Z
DESCRIPTION:\nThis will be the kick off board meeting for the 2014-2105 season, which includes the full board from 2013-2014 and 2014-2015 season. \n \nBreakfast will be served!\n \n \n \nAssociate Members have the right to attend this and any regular board meeting.\n
SUMMARY:....................CAEPC Joint Board Meeting - Central Arizona Estate Planning Council 
PRIORITY:3
BEGIN:VALARM
TRIGGER:PT18H
ACTION:DISPLAY
DESCRIPTION:Reminder
END:VALARM
END:VEVENT
END:VCALENDAR