BEGIN:VCALENDAR
PRODID:-//hacksw/handcal//NONSGML v1.0//EN
VERSION:2.0
METHOD:PUBLISH
BEGIN:VEVENT
DTSTART:20150420T233000Z
DTEND:20150421T020000Z
LOCATION:Phoenix Country Club
UID:1072120150420T233000ZCAEPC: Spring Banquet 
DTSTAMP:20260420T043314Z
DESCRIPTION:\n \n \n2015 Estate Planner’s Spring Fling Banquet\n \nEvery Member- golfer or not- should plan to come to the Spring Fling and celebrate the end of the tax season, and the last of our Spring weather.  Arrive by 5pm for the reception and to participate in the putting contest.\n   \n \n \nThis Special Event is generously sponsored by:\n \n \n \n[](http://massmutualbrokerage.com)\n   \n \n   \n \n \n4:30pm Registration, Putting Contest and social networking\n 6:00pm Buffet\n 6:30pm Golf Awards\n 7:30pm Adjourn\n \nRSVP Deadline:  April 15, 2015\n \nRegistration for the golf tournament is separate and can be [completed here](http://www.caepc.org/events/event/10718).\n \n \n
SUMMARY:CAEPC: Spring Banquet  - Central Arizona Estate Planning Council 
PRIORITY:3
BEGIN:VALARM
TRIGGER:PT18H
ACTION:DISPLAY
DESCRIPTION:Reminder
END:VALARM
END:VEVENT
END:VCALENDAR