BEGIN:VCALENDAR
PRODID:-//hacksw/handcal//NONSGML v1.0//EN
VERSION:2.0
METHOD:PUBLISH
BEGIN:VEVENT
DTSTART:20150512T000000Z
DTEND:20150512T023000Z
LOCATION:Phoenix Country Club
UID:1071920150512T000000ZCAEPC: Being a Philanthropist; Donor Advised, Private Foundation or ?
DTSTAMP:20260420T043209Z
DESCRIPTION:\nPlease note:  This meeting will be held on the SECOND Monday of May\n \n"Being a Philanthropist; Donor Advised, Private Foundation or ?"\n \n[Charles D. ("Skip") Fox IV](http://www.mcguirewoods.com/People/F/Charles-D-Fox-IV.aspx)\n \n[McGuireWoods LLP](https://www.mcguirewoods.com/)\n  \nProgram Description:  This session will review the advantages and disadvantages of making gifts to private foundations, public charities, donor advised funds, and supporting organizations. Special attention will be paid to the factors that a donor should consider in making his or her new determination.\n  \n \n \n\n Come early, share a cocktail with fellow planning professionals, and sit down to an excellent meal followed by a professionally delivered presentation.\n   \n \n \nThis program is generously sponsored by:\n   \n[](https://www.northerntrust.com/)\n   \nAdditional meeting information:\n\n Be sure to sign in (and out if you are seeking CFP or Arizona Dept. of Ins. CE Credits).\n\n Last minute cancellations:  If you find you cannot attend, an e-mail to [info@CAEPC.org](mailto:info@caepc.org?subject=CAEPC%20Meeting) gives us an idea of how many extra seats we may have for those arriving "at the door".\n\n We love substitutes! If you can't attend, maybe someone else in your firm or practice would like to attend in your stead?    As always, you can register your substitutes on-line, or send us a quick e-mail to [info@CAEPC.org.](mailto:info@caepc.org?subject=CAEPC%20Meeting)\n\n  \n
SUMMARY:CAEPC: Being a Philanthropist; Donor Advised, Private Foundation or ? - Central Arizona Estate Planning Council 
PRIORITY:3
BEGIN:VALARM
TRIGGER:PT18H
ACTION:DISPLAY
DESCRIPTION:Reminder
END:VALARM
END:VEVENT
END:VCALENDAR