BEGIN:VCALENDAR
PRODID:-//hacksw/handcal//NONSGML v1.0//EN
VERSION:2.0
METHOD:PUBLISH
BEGIN:VEVENT
DTSTART:20150420T183000Z
DTEND:20150421T000000Z
LOCATION:Phoenix Country Club
UID:1071820150420T183000ZJohnson Bank Estate Planners' Invitational
DTSTAMP:20260420T043107Z
DESCRIPTION:\n\n \nEstate Planners' Invitational\n \nAnnual Scramble Tournament\n    \nMonday, April 20, 2015\n Phoenix Country Club\n Home of the Phoenix Open for 40+ years\n \nHosted by:\n \n\n \n11:30am Registration Opens and Putting Contest\n 12:35pm Teams Roll out\n 12:45pm Shotgun Start\n     \n \n \nRegistration Closed April 15, 2015!\n \nStandard Registration $180 CAEPC Members and Non Members\n \n(includes box lunch)\n \nPlease note:  Registration for the spring fling banquet is separate, \n \nand can be processed on the [banquet event posting](http://www.caepc.org/events/event/10721).\n \n \n   \n \n \nGolf prizes will be awarded to 1st and 2nd place teams in 3 flights\n\n(And a special prize for the last place team)\n \nLongest Drive (Men and Women)\n Closest to the Pin\n Longest Putt\n \n \n   \n \n \nThis Special Event is generously sponsored by:\n \n[](https://www.johnsonbank.com/)\n   \n \n \nWant some do overs?\n   Buy Mulligans on event day:\n 1 for $10, 3 for $20\n (cash or check only on event day)\n \n \n   \nWant to get your firm some extra visibility with Estate Planners' across the valley?\n \nContact Katie Hill, 480-596-1817,[ katie.hill@myfw.com](http://katie.hill@myfw.com) on/before \n \nApril 16, 2015 to coordinate delivery of your organization's goody bag items.  \n \nPlan for a quantity of 100.  \n \nExamples of items we'd love to gather and make available to our teams:\n \n\nGift Bags to hold items\n Golf Towels\n Sunscreen/chap stick\n Visors\n Golf Bag Name Tags\n Score clickers\n Gum/Mints\n \n \n
SUMMARY:Johnson Bank Estate Planners' Invitational - Central Arizona Estate Planning Council 
PRIORITY:3
BEGIN:VALARM
TRIGGER:PT18H
ACTION:DISPLAY
DESCRIPTION:Reminder
END:VALARM
END:VEVENT
END:VCALENDAR