BEGIN:VCALENDAR
PRODID:-//hacksw/handcal//NONSGML v1.0//EN
VERSION:2.0
METHOD:PUBLISH
BEGIN:VEVENT
DTSTART:20150303T000000Z
DTEND:20150303T023000Z
LOCATION:Phoenix Country Club
UID:1071720150303T000000ZCAEPC: Act II:  Estate Planning for the Second Marriage
DTSTAMP:20260420T043343Z
DESCRIPTION:\n"Act II:  Estate Planning for the Second Marriage"\n \n[Jeremiah W. Doyle, IV](http://www.bnymellonwealthmanagement.com/our-views/authors/jeremiah-doyle.html)\n \n[BNY Mellon Wealth Management](http://www.bnymellonwealthmanagement.com/)\n \nProgram Description: \n \nIt's deja vu all over again but with a few more complications. This program will focus on issues to consider in second marriages: prenuptial agreements, portability, tax apportionment, QTIP trusts, support obligations, wealth and age disparities, blended families and more. The most common issues and potential solutions will be presented\n \n \n   \nPast Presidents Honored!\n It's our annual opportunity to express gratitude to the past presidents of CAEPC for their time and efforts, and their role in building our organization to where we are today. \n If you are a [Past President of CAEPC](http://caepc.org/EmailTracker/LinkTracker.ashx?linkAndRecipientCode=JNbVl%2bbVwJh%2f0hjXao2fH98swlnTPQQiJ1UOGV6yxSAwjfReR0UtWNgS6bJNU5HIPDETeow4ARu1g5FQXhlR7LXSfyG6n%2b2SePmrea6zkpY%3d), or you happen to see a past president, remind them to be sure and join us. (free for all past presidents, even if they are not current members).\n   \n Come early, share a cocktail with fellow planning professionals, and sit down to an excellent meal followed by a professionally delivered presentation.\n   \n \n \nThis program is generously sponsored by:\n \n[](http://arizbank.com)\n \n \n   \n \n   \nAdditional meeting information:\n\n Be sure to sign in (and out if you are seeking CFP or Arizona Dept. of Ins. CE credits).\n\n Last minute cancellations:  If you find you cannot attend, an e-mail to [info@CAEPC.org](mailto:info@caepc.org?subject=CAEPC%20Meeting) gives us an idea of how many extra seats we may have for those arriving "at the door".\n\n We love substitutes! If you can't attend, maybe someone else in your firm or practice would like to attend in your stead?    As always, you can register your substitutes on-line, or send us a quick e-mail to [info@CAEPC.org](mailto:info@caepc.org?subject=CAEPC%20Meeting).\n  \n
SUMMARY:CAEPC: Act II:  Estate Planning for the Second Marriage - Central Arizona Estate Planning Council 
PRIORITY:3
BEGIN:VALARM
TRIGGER:PT18H
ACTION:DISPLAY
DESCRIPTION:Reminder
END:VALARM
END:VEVENT
END:VCALENDAR