BEGIN:VCALENDAR
PRODID:-//hacksw/handcal//NONSGML v1.0//EN
VERSION:2.0
METHOD:PUBLISH
BEGIN:VEVENT
DTSTART:20150106T000000Z
DTEND:20150106T023000Z
LOCATION:Phoenix Country Club
UID:1071520150106T000000ZCAEPC: Markets, The Economy, and Estate Planning
DTSTAMP:20260420T043217Z
DESCRIPTION:\n \n \n"Markets, the Economy, and Estate Planning"\n \n[Jack Ablin](https://www.google.com/url?sa=t&rct=j&q=&esrc=s&source=web&cd=3&ved=0CC8QFjAC&url=https%3A%2F%2Fwww.bmo.com%2Fprivatebank%2Fpdf%2Fbio%2FBMO_Jack_Ablin.pdf&ei=38zkU5KQFtGPyASimoLoDg&usg=AFQjCNGexAlNHa4HPVAO1D3sK3B7ZgU_Lw&bvm=bv.72676100,d.aWw&cad=rja)\n\n[BMO Private Bank](https://www.bmo.com/privatebank/us)\n  \nProgram Description: Investing has become an increasing global exercise.  Markets are moving in tandem as events in one corner of the globe ripple throughout the investment landscape.  Using his 30-plus years of experience as a global macro investor, Jack Ablin, chief investment officer of BMO Private Bank, will examine the global investment landscape and share his five big market indicators for helping you navigate the increasingly interrelated markets in equities, bonds, commodities and currencies.\n  \nCome early, share a cocktail with fellow planning professionals, and sit down to an excellent meal followed by a professionally delivered presentation.\n   \n \n \nThis program is generously sponsored by:\n \n[](https://www.bmo.com/privatebank/us)\n     \nAdditional meeting information:\n\nTimely RSVP deadline for this program is December 31, 2015 due to the New Year's Holiday.\n \nBe sure to sign in (and out if you are seeking CFP or Arizona Dept. of Ins. credits).\n\n Last minute cancellations:  If you find you cannot attend, an e-mail to[ info@CAEPC.org](mailto:info@caepc.org?subject=CAEPC%20Meeting) gives us an idea of how many extra seats we may have for those arriving "at the door".\n\n We love substitutes! If you can't attend, maybe someone else in your firm or practice would like to attend in your stead?    As always, you can register your substitutes on-line, or send us a quick e-mail to [info@CAEPC.org.](mailto:info@caepc.org?subject=CAEPC%20Meeting)\n  \n
SUMMARY:CAEPC: Markets, The Economy, and Estate Planning - Central Arizona Estate Planning Council 
PRIORITY:3
BEGIN:VALARM
TRIGGER:PT18H
ACTION:DISPLAY
DESCRIPTION:Reminder
END:VALARM
END:VEVENT
END:VCALENDAR