BEGIN:VCALENDAR
PRODID:-//hacksw/handcal//NONSGML v1.0//EN
VERSION:2.0
METHOD:PUBLISH
BEGIN:VEVENT
DTSTART:20141202T000000Z
DTEND:20141202T033000Z
LOCATION:Phoenix Country Club
UID:1071420141202T000000ZCAEPC: Holiday Event
DTSTAMP:20260420T043215Z
DESCRIPTION:\n\n \nOn December 1st, 2014 bring your favorite companion and celebrate the season.\n\n Come early, share a cocktail with fellow planning professionals, and leave with your holiday spirit off to a great start!  \n \n  \nThis year's Central Arizona Estate Planning Council Holiday Event will set the holiday mood and delight with a String Serenade.   \n \nAttendees will enjoy a relaxing social hour, followed by a fantastic multi-course meal, followed by more social opportunities.....all while being serenaded by a String Trio.  \n \nRegistration Fees:\n \nCAEPC Member and Significant Other:  No Cost\n \nStandard Guest:  $50.00\n \nAs in past years, CAEPC members are being invited to help make the holidays special for individuals and families in need by participating in a Food and Toy Drive for St. Mary’s Food Bank Alliance.  A collection box will be available at our annual Holiday Party on Monday, December 1st to receive your donations.\n \nCurrent-Most Needed Food Drive Items\n \nCanned Vegetables\n \nCanned Meat/Protein items like Tuna and Chicken\n \nOther Top Needed Food Drive Items\n \nBeans (canned or dried)\n \nCanned Fruit  \n \nCanned Soups, Stews, Chili and Pastas\n \nCereal (whole grain, low sugar)\n \nDiapers (children and adult sizes)\n \nJuice (canned, plastic or boxed)\n \nPasta\n \nPeanut Butter\n \nRice\n \nAdditionally, small ‘kid friendly’ items (toys, books, candy) will be welcome.\n \n \n \nThis Special Event is generously sponsored by:\n \n[](http://www.azfoundation.org/)\n \n \n  \n \n \n \n \n \n \n \n
SUMMARY:CAEPC: Holiday Event - Central Arizona Estate Planning Council 
PRIORITY:3
BEGIN:VALARM
TRIGGER:PT18H
ACTION:DISPLAY
DESCRIPTION:Reminder
END:VALARM
END:VEVENT
END:VCALENDAR