BEGIN:VCALENDAR
PRODID:-//hacksw/handcal//NONSGML v1.0//EN
VERSION:2.0
METHOD:PUBLISH
BEGIN:VEVENT
DTSTART:20141104T000000Z
DTEND:20141104T023000Z
LOCATION:Phoenix Country Club
UID:1071320141104T000000ZCAEPC: The Hybrid Domestic Asset Protection Trust
DTSTAMP:20260420T043210Z
DESCRIPTION:\n \n \n \n \n"The Hybrid Domestic Asset Protection Trust: A Third-Party Trust That Can Turn Into A Self-Settled Trust"\n \n[Steven J Oshins, Esq.](http://www.oshins.com/stevenjoshins.html)\n \n[Law Offices of Oshins & Associates, LLC](http://www.oshins.com/home.html)\n  \nProgram Description:  This presentation will include an overview of DAPTs. The speaker will describe a clever twist on the traditional DAPT called Hybrid DAPT which substantially reduces the risks often associated with traditional DAPTs.\n  \n\n Come early, share a cocktail with fellow planning professionals, and sit down to an excellent meal followed by a professionally delivered presentation.\n   \n \n \nThis program is generously sponsored by:\n \nYour Logo and Link could be here!\n \n[Find Out How Your Organization can Support Great Programs](http://www.caepc.org/council/sponsor-sales)\n   \n \n \nAdditional meeting information:\n\n Be sure to sign in (and out if you are seeking CFP or Arizona Dept of Ins. CE credits).\n\n Last minute cancellations:  If you find you cannot attend, an e-mail to [info@CAEPC.org](mailto:info@caepc.org?subject=CAEPC%20Meeting) gives us an idea of how many extra seats we may have for those arriving "at the door".\n\n We love substitutes! If you can't attend, maybe someone else in your firm or practice would like to attend in your stead?    As always, you can register your substitutes on-line, or send us a quick e-mail to[ info@CAEPC.org](mailto:info@caepc.org?subject=CAEPC%20Meeting).\n \n \n   \n \n \nAdditional Educational Opportunity \n \n[Jewish Community Foundation & Arizona Community Foundation ](http://www.eventbrite.com/o/jewish-community-foundation-amp-arizona-community-foundation-3905763291?s=23167903)\n \n[2014 Tax & Legal Seminar](http://azfoundation.org/ProfessionalAdvisors/EventsforProfessionalAdvisors/TaxLegalSeminar.aspx)\n \nFriday, November 7; 7:00 am to Noon\n \nChaparral Suites Resort, 5001 N. Scottsdale Rd., Scottsdale, AZ\n \nThis year's featured speaker is Steven E. Trytten, a recognized authority on tax and estate planning. He is a licensed CPA with over 30 years of experience and a strong academic and professional background. [Read more about this nationally renowned speaker.](http://r20.rs6.net/tn.jsp?f=001pSTABN086IOUDQnnqmR8OUzBdtPYge6Nj7U4SU6dOUXwZdCH00OrnCTp1VxnN-eJISeU2TWXIDSxRl7p-4Lp1bUTproCZK17KF-dRYdJHmu9_-ELKt2dvTVWLVvoUoL6C2bBY_NyiFBwRrQPOpkLWDUDuMucfvlbi3sTbPvBK61d3DB2DY5ZgP6irvC1RzrtLHTUc8KCv4bFGVTvUaQ9D8A0iSkMcRAZcSua_vQlW6AcRAwxEK4nU3ahbURmQjzVpYNCa9g0_xL3ufJYwewag8xjcUlZM_bjGUThvz_3yT8Z5nAKMv67P3p7J_dZy8VrlswU9WKUWXRAnjoPXCE70lHmgwvUxsRtD-o7Yy2hrTh-8pWqjZeBByFaRvK12x46YmjmMZ3ikpc=&c=5lO0l79_D20VuyZ4IkgPbZxsYB17NMS-jSgNkghfOqoDPMJYzZB49w==&ch=hPJYxYKtjTWSRfTP-iUQA9WaYPUZIUS0Ie2CLjiF-K1ahNoAWZy-iw==)\n \nThe Tax & Legal Seminar may qualify for up to four hours of continuing education credit. [Register today](http://r20.rs6.net/tn.jsp?f=001pSTABN086IOUDQnnqmR8OUzBdtPYge6Nj7U4SU6dOUXwZdCH00OrnBaiQP8gxZEadLODGd6KwBUx1hdO7DXvGvuE0722LuJB5uLr1_teTNwKcMlXgALGPOaxapIbNzafEdjo2dQX4lCQzRycOXudrqLDzyhFiKXunKflpbjQGQm-oPXZI-i0B5t9_lEMy_lXnEDBV4NStM15nijmdEHviWrOG89ihxqGFPilbfvpaB7G9XOPBNL-1vaQ2wifOyvozRGKQEeuzflSl9aTdCaSz81hbI0ENcd2cXBrSfhRHRBktbwiRF1SOwDV3GwgOhVsvBAaGsqE7GJIm3dRNJOZr90mU1g17_0Qjc2JuifGNgNH8n7G1eJJYfcaN9J2IFoQIbjDWHd7Z9A=&c=5lO0l79_D20VuyZ4IkgPbZxsYB17NMS-jSgNkghfOqoDPMJYzZB49w==&ch=hPJYxYKtjTWSRfTP-iUQA9WaYPUZIUS0Ie2CLjiF-K1ahNoAWZy-iw==) for this valuable opportunity to learn and network with professional advisors from around the state!\n   \n \n \nItems below refer to the CAEPC November 3, 2014 program.........\n
SUMMARY:CAEPC: The Hybrid Domestic Asset Protection Trust - Central Arizona Estate Planning Council 
PRIORITY:3
BEGIN:VALARM
TRIGGER:PT18H
ACTION:DISPLAY
DESCRIPTION:Reminder
END:VALARM
END:VEVENT
END:VCALENDAR